BEGIN:VCALENDAR
VERSION:2.0
PRODID:-//Welcome to craigthatcher.com - ECPv6.15.20//NONSGML v1.0//EN
CALSCALE:GREGORIAN
METHOD:PUBLISH
X-WR-CALNAME:Welcome to craigthatcher.com
X-ORIGINAL-URL:https://craigthatcher.com
X-WR-CALDESC:Events for Welcome to craigthatcher.com
REFRESH-INTERVAL;VALUE=DURATION:PT1H
X-Robots-Tag:noindex
X-PUBLISHED-TTL:PT1H
BEGIN:VTIMEZONE
TZID:America/New_York
BEGIN:DAYLIGHT
TZOFFSETFROM:-0500
TZOFFSETTO:-0400
TZNAME:EDT
DTSTART:20250309T070000
END:DAYLIGHT
BEGIN:STANDARD
TZOFFSETFROM:-0400
TZOFFSETTO:-0500
TZNAME:EST
DTSTART:20251102T060000
END:STANDARD
BEGIN:DAYLIGHT
TZOFFSETFROM:-0500
TZOFFSETTO:-0400
TZNAME:EDT
DTSTART:20260308T070000
END:DAYLIGHT
BEGIN:STANDARD
TZOFFSETFROM:-0400
TZOFFSETTO:-0500
TZNAME:EST
DTSTART:20261101T060000
END:STANDARD
BEGIN:DAYLIGHT
TZOFFSETFROM:-0500
TZOFFSETTO:-0400
TZNAME:EDT
DTSTART:20270314T070000
END:DAYLIGHT
BEGIN:STANDARD
TZOFFSETFROM:-0400
TZOFFSETTO:-0500
TZNAME:EST
DTSTART:20271107T060000
END:STANDARD
END:VTIMEZONE
BEGIN:VEVENT
DTSTART;TZID=America/New_York:20260213T180000
DTEND;TZID=America/New_York:20260213T210000
DTSTAMP:20260424T153842
CREATED:20260103T173041Z
LAST-MODIFIED:20260103T173043Z
UID:551-1771005600-1771016400@craigthatcher.com
SUMMARY:Artisan Craig Solo\, Acoustic
DESCRIPTION:This is a very cool wine bar/listening room located on the Wooden Match property in Bethlehem\, PA. Reservations are necessary as this place fills up quickly. You can have dinner\, enjoy some fine wine and music\, very nice atmosphere.
URL:https://craigthatcher.com/event/artisan-craig-solo-acoustic-2/
LOCATION:Artisan Wine & Cheese Cellars  (in the Wooden Match parking lot). Reservations strongly advised!\, 55 W Lehigh St\, Bethlehem\, PA 18018\, Bethlehem\, 18018
END:VEVENT
BEGIN:VEVENT
DTSTART;TZID=America/New_York:20260221T100000
DTEND;TZID=America/New_York:20260221T220000
DTSTAMP:20260424T153842
CREATED:20260103T175505Z
LAST-MODIFIED:20260103T205147Z
UID:557-1771668000-1771711200@craigthatcher.com
SUMMARY:Costa Rica Blues Festival - CTB w/Joe Hrbek
DESCRIPTION:Saturday\, February 21\, 2026\, 11am — the heart of our 10th Anniversary Celebration! Enjoy a full day of world-class blues\, delicious eats\, refreshing drinks\, and the best vibes around. \n\n\n\nWe’re back celebrating the 10th anniversary of the Costa Rica Blues Festival! After a long pause since our last gathering in 2020 due to COVID\, the Costa Rica Blues Festival is thrilled to return in February 2026 with a fresh new vibe\, a brand new location\, and the same soul-stirring music we’ve all been missing. \n\n\n\nThe festival will take place in the beautiful town of Grecia\, Costa Rica. Nestled in the lush Central Valley and just a short drive from San José\, Grecia offers perfect weather\, a warm and welcoming community\, and the kind of relaxed\, outdoor setting that’s made this festival a favorite for blues lovers near and far. \n\n\n\n🌟 This year’s venue: Club Campestre Griego — a spacious\, scenic country club surrounded by rolling green hills\, offering the perfect backdrop for a weekend of great music\, food\, and fun. Get ready to soak in the blues beneath the open sky with comfort\, charm\, and style. \n\n\n\nAnd that’s not all — there will be a full week of events leading up to the main show\, with special performances\, jam sessions\, and community activities. The full calendar will be announced soon! \n\n\n\nOver the years\, the Costa Rica Blues Festival has welcomed blues legends from around the world — and our 10th anniversary edition will be no different. We’re also excited to invite sponsors and vendors to be part of this unforgettable celebration. From local businesses to global brands\, it’s a fantastic opportunity to connect with a vibrant\, music-loving crowd and join in the joy of this milestone event. \n\n\n\n🗓️ Mark your calendars.📣 Tell your friends.🪑 Bring your chairs and your dancing shoes.. \n\n\n\nThe Costa Rica Blues Festival is back — celebrating 10 years of blues\, community\, and pure soul. We can’t wait to see you there!
URL:https://craigthatcher.com/event/costa-rica-blues-festival-ctb-w-joe-hrbek/
LOCATION:Club Campestre\, Alajuela Province\, Grecia\, Yoses\,\, Costa Rica
END:VEVENT
BEGIN:VEVENT
DTSTART;TZID=America/New_York:20260223T180000
DTEND;TZID=America/New_York:20260223T210000
DTSTAMP:20260424T153842
CREATED:20260103T180303Z
LAST-MODIFIED:20260103T205241Z
UID:563-1771869600-1771880400@craigthatcher.com
SUMMARY:Costa Rica Private Event\, Potrero - CTB w/ Joe Hrbek
DESCRIPTION:Private sponsor event in Potrero\, Costa Rica
URL:https://craigthatcher.com/event/costa-rica-private-event-ctb-w-joe-hrbek/
END:VEVENT
BEGIN:VEVENT
DTSTART;TZID=America/New_York:20260227T190000
DTEND;TZID=America/New_York:20260227T220000
DTSTAMP:20260424T153842
CREATED:20260103T184226Z
LAST-MODIFIED:20260103T184354Z
UID:570-1772218800-1772229600@craigthatcher.com
SUMMARY:Hotel Pasatiempo\, Tamarindo Beach\, Costa Rica
DESCRIPTION:Hotel Pasatiempo: Tamarindo Beach\, Costa Rica \n\n\n\nHotel Pasatiempo is the perfect small boutique hotel in Tamarindo Beach. A breezeway leads you past the reception area to our tropical pool and restaurant. Stone or wood pathways\, dotted with lush vegetation\, palm and mango trees\, meander to the various bungalows\, each with its own shaded patio with lounge chairs and/or hammock.We offer more than fair prices\, and if you are looking for an intimate place\, with abundant green gardens surrounding the pool\, then we are the perfect choice. We are located at only 400 yards from the beach at Playa Tamarindo\, the jewel of Guanacaste\, Costa Rica.We are located in the quiet part of town yet just a 5-minute walk to the beach. Your room will be surrounded by nature\, but within walking distance of everything in town. Relax at the pool\, enjoy a cocktail or nice fresh meal at Monkey La-La our full service bar/restaurant or book an activity during your stay. Rooms feature high efficiency A/C\, flat-screen televisions\, orthopedic mattresses with divine pillow-top\, private bathroom with shower and hot water\, safe box\, fridges in higher categories\, and a little private terrace in front of your room.
URL:https://craigthatcher.com/event/hotel-pasatiempo-tamarindo-costa-rica/
LOCATION:Hotel Pasatiempo\, 350 Av Central\, Tamarindo\, Provincia de Guanacaste\, Costa Rica
END:VEVENT
BEGIN:VEVENT
DTSTART;TZID=America/New_York:20260228T183000
DTEND;TZID=America/New_York:20260228T220000
DTSTAMP:20260424T153842
CREATED:20260207T142458Z
LAST-MODIFIED:20260208T194158Z
UID:648-1772303400-1772316000@craigthatcher.com
SUMMARY:Abriendo Mentes 5th Annual Fundraiser at Terrazas Event Center\, Playa Flamingo\, Costa Rica
DESCRIPTION:We look forward to this\, our 5th Annual Fundraiser benefitting Abriendo Mentes\, serving the Guanacaste community since 2009. Tonight’s show will feature the Bryan Sanchez Band taking the stage at 6:30pm followed by headliners\, Craig Thatcher Band with Special Guests\, Stephanie Waltrip and Joe Hrbek. The event takes place at Terrazas Event Center\, Provincia de Guanacaste\, Flamingo\, 50308\, Costa Rica. Food and drink available for purchase. Doors at 5:30pm; showtime is 6:30pm. Tickets are $25–can purchase at this link: https://givebutter.com/V3sd51 and are also available at Potrero Brewing Company\, The Shack\, or at the door on day of show. https://terrazasflamingo.com/Our heartfelt thanks to the following sponsors:Paul German PhotographyCasa MarlinTerrazasThe ShackBoomerang ToursTropical HomesPotrero Brewing Company Get Noticed — the Swell DealerVery special thanks to all of the wonderful Abriendo Mentes volunteers and staff who have helped make this event so successful\, year after year. We also express our thanks to Mr. & Mrs.Charlie Hipp for providing beautiful accommodations for the band. Also a big shout out to Dan Sine\, our main man in CR\, manager and partner in this venture. Thanks so much for everything! And yes\, this is a very important reason I/we travel to Costa Rica every year. I’m on the board of Abriendo Mentes. Raising funds for this organization is my main priority when visiting CR. Abriendo Mentes is a non-profit organization that helps underprivileged children in rural communities of Guanacaste\, Costa Rica\, by providing free educational\, social\, and community development programs. They focus on empowering youth through English (ESL)\, technology\, and art classes to improve their future opportunities. Thank you! Best\,CraigT
URL:https://craigthatcher.com/event/abriendo-mentes-5th-annual-fundraiser-at-terrazas-event-center-playa-flamingo-costa-rica/
END:VEVENT
END:VCALENDAR