BEGIN:VCALENDAR
VERSION:2.0
PRODID:-//Welcome to craigthatcher.com - ECPv6.15.20//NONSGML v1.0//EN
CALSCALE:GREGORIAN
METHOD:PUBLISH
X-WR-CALNAME:Welcome to craigthatcher.com
X-ORIGINAL-URL:https://craigthatcher.com
X-WR-CALDESC:Events for Welcome to craigthatcher.com
REFRESH-INTERVAL;VALUE=DURATION:PT1H
X-Robots-Tag:noindex
X-PUBLISHED-TTL:PT1H
BEGIN:VTIMEZONE
TZID:America/New_York
BEGIN:DAYLIGHT
TZOFFSETFROM:-0500
TZOFFSETTO:-0400
TZNAME:EDT
DTSTART:20250309T070000
END:DAYLIGHT
BEGIN:STANDARD
TZOFFSETFROM:-0400
TZOFFSETTO:-0500
TZNAME:EST
DTSTART:20251102T060000
END:STANDARD
BEGIN:DAYLIGHT
TZOFFSETFROM:-0500
TZOFFSETTO:-0400
TZNAME:EDT
DTSTART:20260308T070000
END:DAYLIGHT
BEGIN:STANDARD
TZOFFSETFROM:-0400
TZOFFSETTO:-0500
TZNAME:EST
DTSTART:20261101T060000
END:STANDARD
BEGIN:DAYLIGHT
TZOFFSETFROM:-0500
TZOFFSETTO:-0400
TZNAME:EDT
DTSTART:20270314T070000
END:DAYLIGHT
BEGIN:STANDARD
TZOFFSETFROM:-0400
TZOFFSETTO:-0500
TZNAME:EST
DTSTART:20271107T060000
END:STANDARD
END:VTIMEZONE
BEGIN:VEVENT
DTSTART;TZID=America/New_York:20260116T180000
DTEND;TZID=America/New_York:20260116T210000
DTSTAMP:20260424T170354
CREATED:20260103T161445Z
LAST-MODIFIED:20260103T161827Z
UID:537-1768586400-1768597200@craigthatcher.com
SUMMARY:Artisan Craig Solo\, Acoustic
DESCRIPTION:This is a very cool wine bar/listening room located on the Wooden Match property in Bethlehem\, PA. Reservations are necessary as this place fills up quickly. You can have dinner\, enjoy some fine wine and music\, very nice atmosphere.
URL:https://craigthatcher.com/event/artisan-craig-solo-acoustic/
END:VEVENT
BEGIN:VEVENT
DTSTART;TZID=America/New_York:20260120T000000
DTEND;TZID=America/New_York:20260124T235959
DTSTAMP:20260424T170354
CREATED:20260103T172308Z
LAST-MODIFIED:20260103T205021Z
UID:548-1768867200-1769299199@craigthatcher.com
SUMMARY:NAMM Show
DESCRIPTION:I’ll be with Martin Guitar doing various events in the booth and onstage all week in the Anaheim Convention Center. On Thursday\, January 22nd\, I’ll be performing on the Martin Stage at 4pm with my friend\, Kenny Sultan. We’ll play an acoustic blues set together which I’m very much looking forward to. So if you’re in the SoCal area at this time\, please stop by the Martin Guitar booth and say hello!
URL:https://craigthatcher.com/event/namm-show/
END:VEVENT
BEGIN:VEVENT
DTSTART;TZID=America/New_York:20260128T200000
DTEND;TZID=America/New_York:20260128T220000
DTSTAMP:20260424T170354
CREATED:20251022T115733Z
LAST-MODIFIED:20260103T172442Z
UID:524-1769630400-1769637600@craigthatcher.com
SUMMARY:Sellersville Theatre Craig Thatcher & Tim Farrell
DESCRIPTION:Craig Thatcher & Tim Farrell \n\n\n\n \n\n\n\n\n\nCraig Thatcher is a band leader (The Craig Thatcher Band)\, an International Clinician/Ambassador for C.F. Martin & Co. of Nazareth\, PA\, a guitar instructor & recording artist. He has performed with or opened for many great artists including: Simone\, Buddy Guy\, Derek Trucks\, John Mayall\, Jimmie Vaughan\, The Fabulous Thunderbirds\, Vanilla Fudge\, Charlie Musselwhite\, Dickey Betts\, Savoy Brown\, Jorma Kaukonen\, Roseanne Cash\, Herman’s Hermits\, Lenny Kaye\, Steve Miller\, Bill Kirchen\, GE Smith and many other international artists. \n\n\n\n \n\n\n\nWith so many guitarists trying to make their mark these days\, it’s not easy being a “trailblazer.” Yet\, that perfectly defines Tim Farrell. His fingerstyle playing and original compositions display an elegant simplicity that celebrates the purity of the acoustic guitar. Tim is a rare kind of musician\, with the ability to both entertain an audience and inspire future generations of players. Tim Farrell is one of only four artists to be honored as one of the 100 Greatest Acoustic Guitarists who have also won Best Instrumental in the International Acoustic Music Awards. \n\n\n\nDoors @ 7:30pm\, 8pm showtime. \n\n\n\nThe cabaret and through row D are reserved for Theater Members until one month before the show. If you are a Theater Member\, select your tickets using the price code that matches your Membership level and enter your Member ID into the Membership box on the checkout page. To inquire about Membership\, call our Box Office at 215-257-5808 or click here.
URL:https://craigthatcher.com/event/craig-thatcher-tim-farrell/
END:VEVENT
END:VCALENDAR