BEGIN:VCALENDAR
VERSION:2.0
PRODID:-//Welcome to craigthatcher.com - ECPv6.15.20//NONSGML v1.0//EN
CALSCALE:GREGORIAN
METHOD:PUBLISH
X-ORIGINAL-URL:https://craigthatcher.com
X-WR-CALDESC:Events for Welcome to craigthatcher.com
REFRESH-INTERVAL;VALUE=DURATION:PT1H
X-Robots-Tag:noindex
X-PUBLISHED-TTL:PT1H
BEGIN:VTIMEZONE
TZID:America/New_York
BEGIN:DAYLIGHT
TZOFFSETFROM:-0500
TZOFFSETTO:-0400
TZNAME:EDT
DTSTART:20240310T070000
END:DAYLIGHT
BEGIN:STANDARD
TZOFFSETFROM:-0400
TZOFFSETTO:-0500
TZNAME:EST
DTSTART:20241103T060000
END:STANDARD
BEGIN:DAYLIGHT
TZOFFSETFROM:-0500
TZOFFSETTO:-0400
TZNAME:EDT
DTSTART:20250309T070000
END:DAYLIGHT
BEGIN:STANDARD
TZOFFSETFROM:-0400
TZOFFSETTO:-0500
TZNAME:EST
DTSTART:20251102T060000
END:STANDARD
BEGIN:DAYLIGHT
TZOFFSETFROM:-0500
TZOFFSETTO:-0400
TZNAME:EDT
DTSTART:20260308T070000
END:DAYLIGHT
BEGIN:STANDARD
TZOFFSETFROM:-0400
TZOFFSETTO:-0500
TZNAME:EST
DTSTART:20261101T060000
END:STANDARD
END:VTIMEZONE
BEGIN:VEVENT
DTSTART;TZID=America/New_York:20250910T180000
DTEND;TZID=America/New_York:20250910T200000
DTSTAMP:20260424T233032
CREATED:20250826T012127Z
LAST-MODIFIED:20250826T012129Z
UID:505-1757527200-1757534400@craigthatcher.com
SUMMARY:An Intimate Evening with Chris Martin & Craig Thatcher\, Music Villa\, Bozeman\, MT.
DESCRIPTION:This is an awesome\, legendary guitar shop located in Bozeman\, MT. We love coming here.  \n\n\n\n539 E. Main Street Bozeman\, MT 597 (406) 587-4761
URL:https://craigthatcher.com/event/an-intimate-evening-with-chris-martin-craig-thatcher-music-villa-bozeman-mt/
END:VEVENT
BEGIN:VEVENT
DTSTART;TZID=America/New_York:20250913T140000
DTEND;TZID=America/New_York:20250913T190000
DTSTAMP:20260424T233032
CREATED:20250826T011536Z
LAST-MODIFIED:20250826T011538Z
UID:503-1757772000-1757790000@craigthatcher.com
SUMMARY:Cliff Starkey & Craig Thatcher Private Event
DESCRIPTION:
URL:https://craigthatcher.com/event/cliff-starkey-craig-thatcher-private-event/
END:VEVENT
BEGIN:VEVENT
DTSTART;TZID=America/New_York:20250916T180000
DTEND;TZID=America/New_York:20250916T200000
DTSTAMP:20260424T233032
CREATED:20250826T010923Z
LAST-MODIFIED:20250826T010925Z
UID:499-1758045600-1758052800@craigthatcher.com
SUMMARY:Martin Experience Event at Guitar Center\, 25 West 14 Street\, New York\, NY 10011
DESCRIPTION:Join us for the ultimate Martin Experience with Special Guest\, Craig Thatcher! \n\n\n\nEnjoy new product demos\, preview exquisite custom shop instruments\, and get a chance to win special prizes.
URL:https://craigthatcher.com/event/martin-experience-event-at-guitar-center-25-west-14-street-new-york-ny-10011/
END:VEVENT
BEGIN:VEVENT
DTSTART;TZID=America/New_York:20250917T180000
DTEND;TZID=America/New_York:20250917T200000
DTSTAMP:20260424T233032
CREATED:20250826T010453Z
LAST-MODIFIED:20250826T010456Z
UID:497-1758132000-1758139200@craigthatcher.com
SUMMARY:Martin Experience Event at New Canaan Music
DESCRIPTION:New Canaan Music\, 90 Main St\, New Canaan\, Connecticut 06840\, United States. \n\n\n\nJoin Martin DSM Matt White and Craig Thatcher for the ultimate Martin Experience. Enjoy new product demos\, preview exquisite custom shop instruments\, and get a chance to win special prizes.
URL:https://craigthatcher.com/event/martin-experience-event-at-new-canaan-music/
END:VEVENT
BEGIN:VEVENT
DTSTART;TZID=America/New_York:20250920T140000
DTEND;TZID=America/New_York:20250920T160000
DTSTAMP:20260424T233032
CREATED:20250709T194307Z
LAST-MODIFIED:20250709T194308Z
UID:256-1758376800-1758384000@craigthatcher.com
SUMMARY:Craig Thatcher Five\, "Coopersburg Day\," Living Memorial Park\, Coopersburg\, PA 18036
DESCRIPTION:FREE Admission  •  FREE Entertainment  •  FREE Parking \n\n\n\n\n\nThis will be the five of us: Bill Sharrow\, bass; Cliff Starkey\, keyboards/vocals; Billy Wear\, drums; Joel Shimer\, guitar/vocals and Craig on guitar/vocals. The entire event runs from 10AM to 5PM. There will be food\, crafters\, games\, a cool car show and a giant flea market (one of the area’s finest). And music all day long…hope you can join us!
URL:https://craigthatcher.com/event/craig-thatcher-five-coopersburg-day-living-memorial-park-coopersburg-pa-18036/
END:VEVENT
BEGIN:VEVENT
DTSTART;TZID=America/New_York:20250923T180000
DTEND;TZID=America/New_York:20250923T200000
DTSTAMP:20260424T233032
CREATED:20250826T011349Z
LAST-MODIFIED:20250826T011351Z
UID:501-1758650400-1758657600@craigthatcher.com
SUMMARY:Evening With Chris Martin & Craig Thatcher at The Music Den
DESCRIPTION:The Music Den\, 1030 State Rt 10 West\, Randolph\, New Jersey 07869\, United States \n\n\n\nDrinks and light hors d’oeuvres from 6:00 – 6:30pm. \n\n\n\nEvent starts at 6:30 – 7:45 pm. \n\n\n\nContact The Music Den for tickets. \n\n\n\nPhone: 800-479-1189
URL:https://craigthatcher.com/event/evening-with-chris-martin-craig-thatcher-at-the-music-den/
END:VEVENT
BEGIN:VEVENT
DTSTART;TZID=America/New_York:20250926T190000
DTEND;TZID=America/New_York:20250926T203000
DTSTAMP:20260424T233032
CREATED:20250709T201805Z
LAST-MODIFIED:20250823T014420Z
UID:259-1758913200-1758918600@craigthatcher.com
SUMMARY:Craig Thatcher Trio "Friends of Southern Lehigh Library\," present a concert with\, "The Craig Thatcher Trio\," featuring Bill Sharrow\, Cliff Starkey & Craig. Enjoy a relaxing evening while supporting the library.
DESCRIPTION:We look forward to performing tonight in our former church\, St John’s UCC\, (now known as the Coopersburg Community Center)\, 538 Thomas Street\, Coopersburg\, PA 18036. I’ll stay on acoustic guitar tonight\, along with Bill Sharrow on bass and Cliff on keyboards/vocals. Fee is just $20 pp and you can register on the Southern Lehigh Public Library website Please come out and support the local library\, they do so much for our children and the entire community! To register for this event please visit the SLPL webpage link below (blue rectangle) and click on “register.”
URL:https://craigthatcher.com/event/craig-thatcher-trio-friends-of-southern-lehigh-library-present-a-concert-with-the-craig-thatcher-trio-featuring-chico-huff-cliff-starkey-craig-enjoy-a-relaxing-evening-while-support/
END:VEVENT
END:VCALENDAR