BEGIN:VCALENDAR
VERSION:2.0
PRODID:-//Welcome to craigthatcher.com - ECPv6.15.20//NONSGML v1.0//EN
CALSCALE:GREGORIAN
METHOD:PUBLISH
X-ORIGINAL-URL:https://craigthatcher.com
X-WR-CALDESC:Events for Welcome to craigthatcher.com
REFRESH-INTERVAL;VALUE=DURATION:PT1H
X-Robots-Tag:noindex
X-PUBLISHED-TTL:PT1H
BEGIN:VTIMEZONE
TZID:America/New_York
BEGIN:DAYLIGHT
TZOFFSETFROM:-0500
TZOFFSETTO:-0400
TZNAME:EDT
DTSTART:20240310T070000
END:DAYLIGHT
BEGIN:STANDARD
TZOFFSETFROM:-0400
TZOFFSETTO:-0500
TZNAME:EST
DTSTART:20241103T060000
END:STANDARD
BEGIN:DAYLIGHT
TZOFFSETFROM:-0500
TZOFFSETTO:-0400
TZNAME:EDT
DTSTART:20250309T070000
END:DAYLIGHT
BEGIN:STANDARD
TZOFFSETFROM:-0400
TZOFFSETTO:-0500
TZNAME:EST
DTSTART:20251102T060000
END:STANDARD
BEGIN:DAYLIGHT
TZOFFSETFROM:-0500
TZOFFSETTO:-0400
TZNAME:EDT
DTSTART:20260308T070000
END:DAYLIGHT
BEGIN:STANDARD
TZOFFSETFROM:-0400
TZOFFSETTO:-0500
TZNAME:EST
DTSTART:20261101T060000
END:STANDARD
BEGIN:DAYLIGHT
TZOFFSETFROM:-0500
TZOFFSETTO:-0400
TZNAME:EDT
DTSTART:20270314T070000
END:DAYLIGHT
BEGIN:STANDARD
TZOFFSETFROM:-0400
TZOFFSETTO:-0500
TZNAME:EST
DTSTART:20271107T060000
END:STANDARD
END:VTIMEZONE
BEGIN:VEVENT
DTSTART;TZID=America/New_York:20251217T170000
DTEND;TZID=America/New_York:20251217T193000
DTSTAMP:20260425T072747
CREATED:20250825T141936Z
LAST-MODIFIED:20250825T142025Z
UID:494-1765990800-1765999800@craigthatcher.com
SUMMARY:Martin Guitar Holiday Open House
DESCRIPTION:Tonight\, Cliff Starkey\, Chico Huff and I will be performing at Martin Guitar\, 510 Sycamore Street\, Nazareth\, PA 18064 for Martin Guitar Annual Holiday Open House\,open to everyone! Festivities will run from 5-7:30 with refreshments and music in the museum. This is always a wonderful event!
URL:https://craigthatcher.com/event/martin-guitar-holiday-open-house/
END:VEVENT
BEGIN:VEVENT
DTSTART;TZID=America/New_York:20251219T190000
DTEND;TZID=America/New_York:20251219T220000
DTSTAMP:20260425T072747
CREATED:20250713T205849Z
LAST-MODIFIED:20251123T134710Z
UID:370-1766170800-1766181600@craigthatcher.com
SUMMARY:Craig solo Artisan Wine & Cheese Cellars
DESCRIPTION:This is a very cool little venue which shares the same parking lot as the Wooden Match. Food is also provided by the staff at the WM. For reservations (pretty much necessary) please call 610-813-2851. \n\n\n\nThis is a very cool little venue which shares the same parking lot as the Wooden Match. Food is also provided by the staff at the WM. For reservations (pretty much necessary) please call 610-813-2851.
URL:https://craigthatcher.com/event/craig-solo-artisan-wine-cheese-cellars-4/
END:VEVENT
BEGIN:VEVENT
DTSTART;TZID=America/New_York:20260116T180000
DTEND;TZID=America/New_York:20260116T210000
DTSTAMP:20260425T072747
CREATED:20260103T161445Z
LAST-MODIFIED:20260103T161827Z
UID:537-1768586400-1768597200@craigthatcher.com
SUMMARY:Artisan Craig Solo\, Acoustic
DESCRIPTION:This is a very cool wine bar/listening room located on the Wooden Match property in Bethlehem\, PA. Reservations are necessary as this place fills up quickly. You can have dinner\, enjoy some fine wine and music\, very nice atmosphere.
URL:https://craigthatcher.com/event/artisan-craig-solo-acoustic/
END:VEVENT
BEGIN:VEVENT
DTSTART;TZID=America/New_York:20260120T000000
DTEND;TZID=America/New_York:20260124T235959
DTSTAMP:20260425T072747
CREATED:20260103T172308Z
LAST-MODIFIED:20260103T205021Z
UID:548-1768867200-1769299199@craigthatcher.com
SUMMARY:NAMM Show
DESCRIPTION:I’ll be with Martin Guitar doing various events in the booth and onstage all week in the Anaheim Convention Center. On Thursday\, January 22nd\, I’ll be performing on the Martin Stage at 4pm with my friend\, Kenny Sultan. We’ll play an acoustic blues set together which I’m very much looking forward to. So if you’re in the SoCal area at this time\, please stop by the Martin Guitar booth and say hello!
URL:https://craigthatcher.com/event/namm-show/
END:VEVENT
BEGIN:VEVENT
DTSTART;TZID=America/New_York:20260128T200000
DTEND;TZID=America/New_York:20260128T220000
DTSTAMP:20260425T072747
CREATED:20251022T115733Z
LAST-MODIFIED:20260103T172442Z
UID:524-1769630400-1769637600@craigthatcher.com
SUMMARY:Sellersville Theatre Craig Thatcher & Tim Farrell
DESCRIPTION:Craig Thatcher & Tim Farrell \n\n\n\n \n\n\n\n\n\nCraig Thatcher is a band leader (The Craig Thatcher Band)\, an International Clinician/Ambassador for C.F. Martin & Co. of Nazareth\, PA\, a guitar instructor & recording artist. He has performed with or opened for many great artists including: Simone\, Buddy Guy\, Derek Trucks\, John Mayall\, Jimmie Vaughan\, The Fabulous Thunderbirds\, Vanilla Fudge\, Charlie Musselwhite\, Dickey Betts\, Savoy Brown\, Jorma Kaukonen\, Roseanne Cash\, Herman’s Hermits\, Lenny Kaye\, Steve Miller\, Bill Kirchen\, GE Smith and many other international artists. \n\n\n\n \n\n\n\nWith so many guitarists trying to make their mark these days\, it’s not easy being a “trailblazer.” Yet\, that perfectly defines Tim Farrell. His fingerstyle playing and original compositions display an elegant simplicity that celebrates the purity of the acoustic guitar. Tim is a rare kind of musician\, with the ability to both entertain an audience and inspire future generations of players. Tim Farrell is one of only four artists to be honored as one of the 100 Greatest Acoustic Guitarists who have also won Best Instrumental in the International Acoustic Music Awards. \n\n\n\nDoors @ 7:30pm\, 8pm showtime. \n\n\n\nThe cabaret and through row D are reserved for Theater Members until one month before the show. If you are a Theater Member\, select your tickets using the price code that matches your Membership level and enter your Member ID into the Membership box on the checkout page. To inquire about Membership\, call our Box Office at 215-257-5808 or click here.
URL:https://craigthatcher.com/event/craig-thatcher-tim-farrell/
END:VEVENT
BEGIN:VEVENT
DTSTART;TZID=America/New_York:20260213T180000
DTEND;TZID=America/New_York:20260213T210000
DTSTAMP:20260425T072747
CREATED:20260103T173041Z
LAST-MODIFIED:20260103T173043Z
UID:551-1771005600-1771016400@craigthatcher.com
SUMMARY:Artisan Craig Solo\, Acoustic
DESCRIPTION:This is a very cool wine bar/listening room located on the Wooden Match property in Bethlehem\, PA. Reservations are necessary as this place fills up quickly. You can have dinner\, enjoy some fine wine and music\, very nice atmosphere.
URL:https://craigthatcher.com/event/artisan-craig-solo-acoustic-2/
LOCATION:Artisan Wine & Cheese Cellars  (in the Wooden Match parking lot). Reservations strongly advised!\, 55 W Lehigh St\, Bethlehem\, PA 18018\, Bethlehem\, 18018
END:VEVENT
BEGIN:VEVENT
DTSTART;TZID=America/New_York:20260221T100000
DTEND;TZID=America/New_York:20260221T220000
DTSTAMP:20260425T072747
CREATED:20260103T175505Z
LAST-MODIFIED:20260103T205147Z
UID:557-1771668000-1771711200@craigthatcher.com
SUMMARY:Costa Rica Blues Festival - CTB w/Joe Hrbek
DESCRIPTION:Saturday\, February 21\, 2026\, 11am — the heart of our 10th Anniversary Celebration! Enjoy a full day of world-class blues\, delicious eats\, refreshing drinks\, and the best vibes around. \n\n\n\nWe’re back celebrating the 10th anniversary of the Costa Rica Blues Festival! After a long pause since our last gathering in 2020 due to COVID\, the Costa Rica Blues Festival is thrilled to return in February 2026 with a fresh new vibe\, a brand new location\, and the same soul-stirring music we’ve all been missing. \n\n\n\nThe festival will take place in the beautiful town of Grecia\, Costa Rica. Nestled in the lush Central Valley and just a short drive from San José\, Grecia offers perfect weather\, a warm and welcoming community\, and the kind of relaxed\, outdoor setting that’s made this festival a favorite for blues lovers near and far. \n\n\n\n🌟 This year’s venue: Club Campestre Griego — a spacious\, scenic country club surrounded by rolling green hills\, offering the perfect backdrop for a weekend of great music\, food\, and fun. Get ready to soak in the blues beneath the open sky with comfort\, charm\, and style. \n\n\n\nAnd that’s not all — there will be a full week of events leading up to the main show\, with special performances\, jam sessions\, and community activities. The full calendar will be announced soon! \n\n\n\nOver the years\, the Costa Rica Blues Festival has welcomed blues legends from around the world — and our 10th anniversary edition will be no different. We’re also excited to invite sponsors and vendors to be part of this unforgettable celebration. From local businesses to global brands\, it’s a fantastic opportunity to connect with a vibrant\, music-loving crowd and join in the joy of this milestone event. \n\n\n\n🗓️ Mark your calendars.📣 Tell your friends.🪑 Bring your chairs and your dancing shoes.. \n\n\n\nThe Costa Rica Blues Festival is back — celebrating 10 years of blues\, community\, and pure soul. We can’t wait to see you there!
URL:https://craigthatcher.com/event/costa-rica-blues-festival-ctb-w-joe-hrbek/
LOCATION:Club Campestre\, Alajuela Province\, Grecia\, Yoses\,\, Costa Rica
END:VEVENT
BEGIN:VEVENT
DTSTART;TZID=America/New_York:20260223T180000
DTEND;TZID=America/New_York:20260223T210000
DTSTAMP:20260425T072747
CREATED:20260103T180303Z
LAST-MODIFIED:20260103T205241Z
UID:563-1771869600-1771880400@craigthatcher.com
SUMMARY:Costa Rica Private Event\, Potrero - CTB w/ Joe Hrbek
DESCRIPTION:Private sponsor event in Potrero\, Costa Rica
URL:https://craigthatcher.com/event/costa-rica-private-event-ctb-w-joe-hrbek/
END:VEVENT
BEGIN:VEVENT
DTSTART;TZID=America/New_York:20260227T190000
DTEND;TZID=America/New_York:20260227T220000
DTSTAMP:20260425T072747
CREATED:20260103T184226Z
LAST-MODIFIED:20260103T184354Z
UID:570-1772218800-1772229600@craigthatcher.com
SUMMARY:Hotel Pasatiempo\, Tamarindo Beach\, Costa Rica
DESCRIPTION:Hotel Pasatiempo: Tamarindo Beach\, Costa Rica \n\n\n\nHotel Pasatiempo is the perfect small boutique hotel in Tamarindo Beach. A breezeway leads you past the reception area to our tropical pool and restaurant. Stone or wood pathways\, dotted with lush vegetation\, palm and mango trees\, meander to the various bungalows\, each with its own shaded patio with lounge chairs and/or hammock.We offer more than fair prices\, and if you are looking for an intimate place\, with abundant green gardens surrounding the pool\, then we are the perfect choice. We are located at only 400 yards from the beach at Playa Tamarindo\, the jewel of Guanacaste\, Costa Rica.We are located in the quiet part of town yet just a 5-minute walk to the beach. Your room will be surrounded by nature\, but within walking distance of everything in town. Relax at the pool\, enjoy a cocktail or nice fresh meal at Monkey La-La our full service bar/restaurant or book an activity during your stay. Rooms feature high efficiency A/C\, flat-screen televisions\, orthopedic mattresses with divine pillow-top\, private bathroom with shower and hot water\, safe box\, fridges in higher categories\, and a little private terrace in front of your room.
URL:https://craigthatcher.com/event/hotel-pasatiempo-tamarindo-costa-rica/
LOCATION:Hotel Pasatiempo\, 350 Av Central\, Tamarindo\, Provincia de Guanacaste\, Costa Rica
END:VEVENT
BEGIN:VEVENT
DTSTART;TZID=America/New_York:20260228T183000
DTEND;TZID=America/New_York:20260228T220000
DTSTAMP:20260425T072747
CREATED:20260207T142458Z
LAST-MODIFIED:20260208T194158Z
UID:648-1772303400-1772316000@craigthatcher.com
SUMMARY:Abriendo Mentes 5th Annual Fundraiser at Terrazas Event Center\, Playa Flamingo\, Costa Rica
DESCRIPTION:We look forward to this\, our 5th Annual Fundraiser benefitting Abriendo Mentes\, serving the Guanacaste community since 2009. Tonight’s show will feature the Bryan Sanchez Band taking the stage at 6:30pm followed by headliners\, Craig Thatcher Band with Special Guests\, Stephanie Waltrip and Joe Hrbek. The event takes place at Terrazas Event Center\, Provincia de Guanacaste\, Flamingo\, 50308\, Costa Rica. Food and drink available for purchase. Doors at 5:30pm; showtime is 6:30pm. Tickets are $25–can purchase at this link: https://givebutter.com/V3sd51 and are also available at Potrero Brewing Company\, The Shack\, or at the door on day of show. https://terrazasflamingo.com/Our heartfelt thanks to the following sponsors:Paul German PhotographyCasa MarlinTerrazasThe ShackBoomerang ToursTropical HomesPotrero Brewing Company Get Noticed — the Swell DealerVery special thanks to all of the wonderful Abriendo Mentes volunteers and staff who have helped make this event so successful\, year after year. We also express our thanks to Mr. & Mrs.Charlie Hipp for providing beautiful accommodations for the band. Also a big shout out to Dan Sine\, our main man in CR\, manager and partner in this venture. Thanks so much for everything! And yes\, this is a very important reason I/we travel to Costa Rica every year. I’m on the board of Abriendo Mentes. Raising funds for this organization is my main priority when visiting CR. Abriendo Mentes is a non-profit organization that helps underprivileged children in rural communities of Guanacaste\, Costa Rica\, by providing free educational\, social\, and community development programs. They focus on empowering youth through English (ESL)\, technology\, and art classes to improve their future opportunities. Thank you! Best\,CraigT
URL:https://craigthatcher.com/event/abriendo-mentes-5th-annual-fundraiser-at-terrazas-event-center-playa-flamingo-costa-rica/
END:VEVENT
BEGIN:VEVENT
DTSTART;TZID=America/New_York:20260301T183000
DTEND;TZID=America/New_York:20260301T213000
DTSTAMP:20260425T072747
CREATED:20260103T201522Z
LAST-MODIFIED:20260103T205426Z
UID:577-1772389800-1772400600@craigthatcher.com
SUMMARY:Potrero Brewing Co. Playa Potrero\, Costa Rica - CTB
DESCRIPTION:Bringing people together\, one pint at a time \n\n\n\nSome families you’re born into. Others you build along the way. \n\n\n\nPotrero Brewing Company is the latter. More than a brewery\, we’re a community hub\, music venue\, beer garden\, and gathering place in the heart of Bahía Potrero. For over a decade\, we’ve been crafting beers and beverages inspired by the flavors and rhythms of Costa Rica. From timeless classics to creative seasonal brews\, our team makes the kind of beer we love to drink. \n\n\n\nBut what matters most to us is sharing it—with the friends\, neighbors\, and guests who become part of our extended family. \n\n\n\nWhether you’re a longtime craft beer enthusiast or just getting curious about IPAs and stouts\, there’s a pint here with your name on it. You might even fill it with homemade rootbeer or limeade! Whatever you choose\, we invite you to stop in\, kick back\, and enjoy. \n\n\n\nFrom our family to yours—cheers!
URL:https://craigthatcher.com/event/potrero-brewing-co-playa-potrero-costa-rica-ctb/
LOCATION:Potrero Brewing Co.\, 100m Oeste de Bar La Perla\, Ruta 911\, Playa Potrero\, Guanacaste\, Costa Rica
END:VEVENT
BEGIN:VEVENT
DTSTART;TZID=America/New_York:20260304T173000
DTEND;TZID=America/New_York:20260304T193000
DTSTAMP:20260425T072747
CREATED:20260103T220549Z
LAST-MODIFIED:20260103T220551Z
UID:609-1772645400-1772652600@craigthatcher.com
SUMMARY:Private Event Cliff & Craig
DESCRIPTION:
URL:https://craigthatcher.com/event/private-event-cliff-craig/
END:VEVENT
BEGIN:VEVENT
DTSTART;TZID=America/New_York:20260314T193000
DTEND;TZID=America/New_York:20260314T220000
DTSTAMP:20260425T072747
CREATED:20260103T221801Z
LAST-MODIFIED:20260103T221921Z
UID:611-1773516600-1773525600@craigthatcher.com
SUMMARY:Eric Clapton Retrospective - CTB at the Musikfest Cafe
DESCRIPTION:Tonight we’ll be presenting our Eric Clapton Retrospective at the Musikfest Cafe. Our friends and very special guests\, AM Radio will perform an opening set from 7:30 to 8:15 and then we’ll hit the stage at 8:30 and perform to (at least) 10pm. This is going to be a great\, fun night of music you won’t want to miss! Reserve your seats at the Cafe ASAP as this show will surely sell out quickly.
URL:https://craigthatcher.com/event/eric-clapton-retrospective-ctb-at-the-musikfest-cafe/
LOCATION:Musikfest Cafe in the ArtsQuest Center at Steelstax\, 101 Founders Way Bethlehem\, PA\, United States\, Pennsylvania 18015\, Bethlehem\, Pennsylvania\, 18960
END:VEVENT
BEGIN:VEVENT
DTSTART;TZID=America/New_York:20260315T000000
DTEND;TZID=America/New_York:20260323T235959
DTSTAMP:20260425T072747
CREATED:20260103T222308Z
LAST-MODIFIED:20260103T222415Z
UID:618-1773532800-1774310399@craigthatcher.com
SUMMARY:CF Martin Events
DESCRIPTION:
URL:https://craigthatcher.com/event/cf-martin-events-uk-paris/
END:VEVENT
BEGIN:VEVENT
DTSTART;TZID=America/New_York:20260407T180000
DTEND;TZID=America/New_York:20260407T200000
DTSTAMP:20260425T072747
CREATED:20260406T093804Z
LAST-MODIFIED:20260406T094310Z
UID:704-1775584800-1775592000@craigthatcher.com
SUMMARY:An Evening With Chris Martin IV & Craig Thatcher at Rudy's Music\, Scarsdale\, NY
DESCRIPTION:Rudy’s Music\, 34 East Pkwy\, Scarsdale\, NY 10583\, United StatesExperience an intimate evening with Chris Martin IV\, the 6th-generation owner of the iconic guitar manufacturer\, C.F. Martin & Co.\, as he shares his passion and stories from his over 35 years at the helm of the company. Founded in 1833 in New York City\, Martin Guitar has been crafting the world’s finest acoustic guitars for nearly 200 years. Chris will share the remarkable history of C. F. Martin & Co. and the innovations that have shaped the acoustic guitar for nearly two centuries. Acclaimed guitarist and Martin ambassador Craig Thatcher will provide live musical examples\, showcasing how Martin instruments have inspired music legends and today’s most influential performers alike. \n\n\n\nWe look forward to seeing you there!
URL:https://craigthatcher.com/event/an-evening-with-chris-martin-iv-craig-thatcher/
END:VEVENT
BEGIN:VEVENT
DTSTART;TZID=America/New_York:20260416T190000
DTEND;TZID=America/New_York:20260416T220000
DTSTAMP:20260425T072747
CREATED:20260103T232008Z
LAST-MODIFIED:20260406T092547Z
UID:621-1776366000-1776376800@craigthatcher.com
SUMMARY:Godfrey Daniels - Craig Thatcher Quartet     SOLD OUT!
DESCRIPTION:Lehigh Valley’s original venue for listening to live music\, plus BYOB\, coffee and snacks. Tonight\, Cliff Starkey\, Chico Huff\, Billy Wear and yours truly will be appearing at Godfrey Daniels in Bethlehem\, PA. GDs is one of the finest listening rooms in the country\, modeled after the way things used to be done in Greenwich Village. I’ve enjoyed performing in this venue for decades. Tonight will be a mix of electric and acoustic music. Join us if you can\, but act soon as this venue has limited seating.Please call (610) 867-2390 for tix/reservations.
URL:https://craigthatcher.com/event/godfrey-daniels-craig-thatcher-quartet/
LOCATION:Godfrey Daniels\, 7 East 4th Street\, Bethlehem\, Pennsylvania\, 18015\, United States
END:VEVENT
BEGIN:VEVENT
DTSTART;TZID=America/New_York:20260417T193000
DTEND;TZID=America/New_York:20260417T210000
DTSTAMP:20260425T072747
CREATED:20260103T235008Z
LAST-MODIFIED:20260406T092447Z
UID:627-1776454200-1776459600@craigthatcher.com
SUMMARY:Bell Tower Cultural Center with Craig Thatcher Quartet SOLD OUT!
DESCRIPTION:We are very much looking forward to returning to this cool venue in Martins Creek\, PA just a bit north of Easton\, PA and close to Bangor\, PA. Once again\, please join Cliff Starkey\, Chico Huff and Billy Wear and yours truly\, as we play a set of electric and acoustic music in this wonderful room (was once a church) with great acoustics. Please click on this link https://www.eventbrite.com/e/a-very-special-evening-with-craig-thatcher-tickets-1976192823934?aff=oddtdtcreator. so you can register for tix. We hope to see you at the show! \n\n\n\nBelltower Mission Statement: * To preserve and share the area’s rich history\, folklore\, arts\, and humanities of the past and present. *To preserve the integrity and importance of this historic landmark set beside a schoolhouse built in 1803 and a cemetery dating back to the Revolutionary War. The church is also a mere 100 yards away from the picturesque Delaware River. \n\n\n\nBell Tower Cultural Center is located in the former Good Shepherd Lutheran Church Located in Martins Creek\, PA\, very convenient to Easton\, Bangor\, and East Bangor
URL:https://craigthatcher.com/event/belltower-cultural-center-with-craig-thatcher-quartet/
LOCATION:Belltower Cultural Center\, 2904 Church Road\, Bangor\, Pennsylvania\, 18013\, United States
END:VEVENT
BEGIN:VEVENT
DTSTART;TZID=America/New_York:20260422T183000
DTEND;TZID=America/New_York:20260422T200000
DTSTAMP:20260425T072747
CREATED:20260421T140711Z
LAST-MODIFIED:20260421T141234Z
UID:793-1776882600-1776888000@craigthatcher.com
SUMMARY:An Evening with Chris Martin IV & Craig Thatcher at George's Music\, North Wales
DESCRIPTION:George’s Music\, 1218 Welsh Rd\, North Wales\, PA 19454\, United StatesPlease Note: this event is sold out\, but I doubt they’ll turn anyone away! For tickets and additional  info please call George’s to confirm: 215-412-4400Experience an intimate evening with Chris Martin IV\, the 6th-generation owner of the iconic guitar manufacturer\, C.F. Martin & Co.\, as he shares his passion and stories from his over 35 years at the helm of the company. Founded in 1833 in New York City\, Martin Guitar has been crafting the world’s finest acoustic guitars for nearly 200 years. \n\n\n\nChris will share the remarkable history of C. F. Martin & Co. and the innovations that have shaped the acoustic guitar for nearly two centuries. Acclaimed guitarist and Martin ambassador Craig Thatcher will provide live musical examples\, showcasing how Martin instruments have inspired music legends and today’s most influential performers alike. \n\n\n\nHors d’oeuvres begin at 6:30pm. The program will begin promptly at 7:00pm. \n\n\n\nWe look forward to seeing you there!
URL:https://craigthatcher.com/event/an-evening-with-chris-martin-iv-craig-thatcher-at-georges-music-north-wales/
END:VEVENT
BEGIN:VEVENT
DTSTART;TZID=America/New_York:20260507T190000
DTEND;TZID=America/New_York:20260507T203000
DTSTAMP:20260425T072747
CREATED:20260421T141101Z
LAST-MODIFIED:20260421T141103Z
UID:795-1778180400-1778185800@craigthatcher.com
SUMMARY:An Evening With Chris Martin IV & Craig Thatcher at Morris Museum
DESCRIPTION:Morris Museum\, 6 Normandy Heights Road\, Morristown\, NJ 07960\, United StatesExperience an intimate evening with Chris Martin IV\, the 6th-generation owner of the iconic guitar manufacturer\, C.F. Martin & Co.\, as he shares his passion and stories from his over 35 years at the helm of the company. Founded in 1833 in New York City\, Martin Guitar has been crafting the world’s finest acoustic guitars for nearly 200 years. \n\n\n\nChris will share the remarkable history of C. F. Martin & Co. and the innovations that have shaped the acoustic guitar for nearly two centuries. Acclaimed guitarist and Martin ambassador Craig Thatcher will provide live musical examples\, showcasing how Martin instruments have inspired music legends and today’s most influential performers alike. \n\n\n\nWe look forward to seeing you there! \n\n\n\nTickets can be purchased at the link below: \n\n\n\nhttps://morrismuseum.org/live-arts/an-evening-with-martin-guitar
URL:https://craigthatcher.com/event/an-evening-with-chris-martin-iv-craig-thatcher-at-morris-museum/
END:VEVENT
BEGIN:VEVENT
DTSTART;TZID=America/New_York:20260508T160000
DTEND;TZID=America/New_York:20260508T200000
DTSTAMP:20260425T072747
CREATED:20260421T141421Z
LAST-MODIFIED:20260421T141423Z
UID:798-1778256000-1778270400@craigthatcher.com
SUMMARY:Private Event
DESCRIPTION:Craig & Cliff
URL:https://craigthatcher.com/event/private-event-3/
END:VEVENT
BEGIN:VEVENT
DTSTART;TZID=America/New_York:20260520T170000
DTEND;TZID=America/New_York:20260520T190000
DTSTAMP:20260425T072747
CREATED:20260406T094612Z
LAST-MODIFIED:20260406T094614Z
UID:712-1779296400-1779303600@craigthatcher.com
SUMMARY:Craig & Cliff Private Event
DESCRIPTION:
URL:https://craigthatcher.com/event/craig-cliff-private-event/
END:VEVENT
BEGIN:VEVENT
DTSTART;TZID=America/New_York:20260606T200000
DTEND;TZID=America/New_York:20260606T223000
DTSTAMP:20260425T072747
CREATED:20260107T001520Z
LAST-MODIFIED:20260406T091658Z
UID:642-1780776000-1780785000@craigthatcher.com
SUMMARY:Sellersville Theatre Jann Klose and the Craig Thatcher Quartet
DESCRIPTION:Tonight is a co-host billing with Jann klose and his band and the CTB Quartet. We’ll play the first set and followed by Jann and his band. We’ll probably play together as well\, on each other’s set. Jann is a fine singer/songwriter and will be releasing his new album at tonight’s event. This promises to be fun show with a lot of great music going on! Hope you can join us–doors at 7:30pm. https://www.st94.com/events/jann-klose-album-release-with-special-guest-craig-thatcher/
URL:https://craigthatcher.com/event/sellersville-theatre-jann-klose-with-special-guest-craig-thatcher/
LOCATION:Sellersville Theatre\, 24 West Temple Avenue\, Sellersville\, PA\, 18960\, United States
END:VEVENT
BEGIN:VEVENT
DTSTART;TZID=America/New_York:20260821T180000
DTEND;TZID=America/New_York:20260821T200000
DTSTAMP:20260425T072747
CREATED:20260421T151131Z
LAST-MODIFIED:20260421T151522Z
UID:811-1787335200-1787342400@craigthatcher.com
SUMMARY:Upper Saucon Summer Concert Series @ Hopewell Park
DESCRIPTION:Presented by Southern Lehigh Chamber of CommerceHopewell Park is located at 4695 West Hopewell Road\, Center Valley Pa 1803\,  adjacent to the Southern Lehigh Hopewell Elementary School. The park is open to the public from sunrise to sunset daily.  \n\n\n\nGet ready for a fun-filled summer evening at Hopewell Park on Friday\, August 21st as The Craig Thatcher Band brings the energy with a vibrant live performance that’s guaranteed to get you on your feet! Their upbeat sound and crowd-pleasing vibes make this the perfect way to enjoy a summer night with friends and family. \n\n\n\nTonight’s show will be an acoustic event featuring: Cliff Starkey\, Chico Huff\, Joel Shimer and Craig. While the music kicks off at 6:30\, a selection of food trucks will start serving at 6:00. We’re thrilled to welcome a delicious lineup of local favorites including Sugar Cycle & UNO Taqueria \n\n\n\nThis free event is open to all\, so grab your lawn chairs\, pack a blanket\, and come ready to relax\, dance\, and soak up the season with your community. Whether you’re here for the music\, the food\, or just to enjoy a beautiful night outdoors—it’s going to be one to remember. So bring your lawn chairs/blankets\, see you at the show! \n\n\n\nSee less
URL:https://craigthatcher.com/event/upper-saucon-summer-concert-series/
END:VEVENT
BEGIN:VEVENT
DTSTART;TZID=America/New_York:20261121T193000
DTEND;TZID=America/New_York:20261121T220000
DTSTAMP:20260425T072747
CREATED:20260421T143617Z
LAST-MODIFIED:20260421T145024Z
UID:800-1795289400-1795298400@craigthatcher.com
SUMMARY:Music of Tom Petty presented by Craig Thatcher Band\, State Theatre Center for the Arts\, Easton\, PA
DESCRIPTION:State Theatre Center for the Arts: 453 Northampton Street\, Easton\, PA 18042 Buy tickets online here: https://www.statetheatre.org/show-information/page/2/ Tonight we’ll present our musical tribute to the music of Tom Petty at the beautiful State Theatre\, Center for the Arts in Easton\, PA. This is our third time playing this show in this fabulous venue\, past two shows selling out rather quickly. We’ll have our full band for this show featuring:Cliff Starkey\, Chico Huff\, Billy Wear\, Billy Murnin\, Joel Shimer\, Brett Andrew\, Justine Williams\, Craig Thatcher…plus several special guest artists TBA soon. This is such a fun night\, such a legacy of wonderful music. Come celebrate the life and music of Tom Petty with us tonight in Easton\, PA! \n\n\n\n\n\n\n\nNot pictured: Chico Huff will be on bass guitar.
URL:https://craigthatcher.com/event/music-of-tom-petty-presented-by-craig-thatcher-band-state-theatre-center-for-the-arts-easton-pa/
END:VEVENT
END:VCALENDAR