BEGIN:VCALENDAR
VERSION:2.0
PRODID:-//Welcome to craigthatcher.com - ECPv6.15.20//NONSGML v1.0//EN
CALSCALE:GREGORIAN
METHOD:PUBLISH
X-WR-CALNAME:Welcome to craigthatcher.com
X-ORIGINAL-URL:https://craigthatcher.com
X-WR-CALDESC:Events for Welcome to craigthatcher.com
REFRESH-INTERVAL;VALUE=DURATION:PT1H
X-Robots-Tag:noindex
X-PUBLISHED-TTL:PT1H
BEGIN:VTIMEZONE
TZID:America/New_York
BEGIN:DAYLIGHT
TZOFFSETFROM:-0500
TZOFFSETTO:-0400
TZNAME:EDT
DTSTART:20240310T070000
END:DAYLIGHT
BEGIN:STANDARD
TZOFFSETFROM:-0400
TZOFFSETTO:-0500
TZNAME:EST
DTSTART:20241103T060000
END:STANDARD
BEGIN:DAYLIGHT
TZOFFSETFROM:-0500
TZOFFSETTO:-0400
TZNAME:EDT
DTSTART:20250309T070000
END:DAYLIGHT
BEGIN:STANDARD
TZOFFSETFROM:-0400
TZOFFSETTO:-0500
TZNAME:EST
DTSTART:20251102T060000
END:STANDARD
BEGIN:DAYLIGHT
TZOFFSETFROM:-0500
TZOFFSETTO:-0400
TZNAME:EDT
DTSTART:20260308T070000
END:DAYLIGHT
BEGIN:STANDARD
TZOFFSETFROM:-0400
TZOFFSETTO:-0500
TZNAME:EST
DTSTART:20261101T060000
END:STANDARD
END:VTIMEZONE
BEGIN:VEVENT
DTSTART;TZID=America/New_York:20250814T183000
DTEND;TZID=America/New_York:20250814T200000
DTSTAMP:20260425T102130
CREATED:20250725T213054Z
LAST-MODIFIED:20250725T213056Z
UID:473-1755196200-1755201600@craigthatcher.com
SUMMARY:Martin Experience Event at Manchester Music Mill\, Manchester\,  New Hampshire
DESCRIPTION:Join us for the ultimate Martin Experience with special guest Craig Thatcher and CF Martin & Co.\, Inc. District Sales Manager\, Matt White. \n\n\n\nEnjoy new product demos\, preview exquisite custom shop instruments\, and get a chance to win special prizes.Manchester Music Mill LLC\, 329 Elm St\, Manchester\, New Hampshire 03101\, United States
URL:https://craigthatcher.com/event/martin-experience-event-at-manchester-music-mill-manchester-new-hampshire/
END:VEVENT
BEGIN:VEVENT
DTSTART;TZID=America/New_York:20250810T213000
DTEND;TZID=America/New_York:20250810T230000
DTSTAMP:20260425T102130
CREATED:20250709T182457Z
LAST-MODIFIED:20250709T182459Z
UID:228-1754861400-1754866800@craigthatcher.com
SUMMARY:Craig Thatcher Band & Friends appearing at "Musikfest\," Levitt Pavilion/Americaplatz Stage on Steel Stacks Campus\, South Side.
DESCRIPTION:This is our big stage Musikfest Show at Levitt Pavilion. Tonight’s show promises to be spectacular with many guests. Featured performers are: Cliff Starkey\, keyboards/vocals; Chico Huff\, bass; Billy Wear\, drums; Brett Andrew\, guitar/vocals; Joel Shimer\, guitar/vocals; Justine Williams\, vocals (on select tunes); Regina Sayles\, vocals (on select tunes); Joe Hrbek\, sax; Hector Rosado\, congas; Steve Lombardi\, trumpet; Joey O\, vocals (on select tune); Billy Murnin\, vocals (on select tunes) and Craig on guitar/vocals. This concert Craig will celebrate his 36th year of Musikfest performances.
URL:https://craigthatcher.com/event/craig-thatcher-band-friends-appearing-at-musikfest-levitt-pavilion-americaplatz-stage-on-steel-stacks-campus-south-side/
END:VEVENT
BEGIN:VEVENT
DTSTART;TZID=America/New_York:20250807T180000
DTEND;TZID=America/New_York:20250807T203000
DTSTAMP:20260425T102130
CREATED:20250717T122038Z
LAST-MODIFIED:20250728T162819Z
UID:452-1754589600-1754598600@craigthatcher.com
SUMMARY:Martin Experience Event at Russo Music\, Philadelphia\, PA
DESCRIPTION:Join us for the ultimate Martin Experience with Martin District Sales Manager\, Brenden Hackett and special guest Craig Thatcher! Enjoy new product demos\, preview exquisite custom shop instruments\, and get a chance to win special prizes.Russo Music\, 1004 Spring Garden Street\, Philadelphia\, PA 19123\, United States
URL:https://craigthatcher.com/event/martin-experience-event-at-russo-music/
END:VEVENT
BEGIN:VEVENT
DTSTART;TZID=America/New_York:20250803T210000
DTEND;TZID=America/New_York:20250803T230000
DTSTAMP:20260425T102130
CREATED:20250709T181331Z
LAST-MODIFIED:20250709T181333Z
UID:226-1754254800-1754262000@craigthatcher.com
SUMMARY:Craig Thatcher Five "Musikfest\," Liederplatz Stage (behind the Sun Inn off Main Street).
DESCRIPTION:CT Five will be Chico Huff\, bass; Joel Shimer\, guitar/vocals; Billy Wear\, drums; Cliff Starkey\, keyboards/vocals and Craig on guitar/vocals. This FREE show will start at 9PM and we’ll perform straight through\, ending at 11PM. This is an intimate stage\, always a great\, responsive show and we are practically “one” with the audience!
URL:https://craigthatcher.com/event/craig-thatcher-five-musikfest-liederplatz-stage-behind-the-sun-inn-off-main-street/
END:VEVENT
BEGIN:VEVENT
DTSTART;TZID=America/New_York:20250726T120000
DTEND;TZID=America/New_York:20250726T130000
DTSTAMP:20260425T102130
CREATED:20250709T172848Z
LAST-MODIFIED:20250709T175917Z
UID:211-1753531200-1753534800@craigthatcher.com
SUMMARY:Craig Thatcher & Cliff Starkey\, "Martin On Main" in Nazareth\, PA
DESCRIPTION:Cliff and I will be performing on the Main Stage starting promptly at 12 noon. The Main Stage is located at the corner of Main & Belvidere Streets.
URL:https://craigthatcher.com/event/craig-solo-at-artisan-wine-cheese-cellars/
END:VEVENT
BEGIN:VEVENT
DTSTART;TZID=America/New_York:20250724T183000
DTEND;TZID=America/New_York:20250724T203000
DTSTAMP:20260425T102130
CREATED:20250709T175340Z
LAST-MODIFIED:20250719T143910Z
UID:217-1753381800-1753389000@craigthatcher.com
SUMMARY:Craig Thatcher Five\, "Live At The Falls\," FREE EVENT in Scott Park\, Easton\, PA
DESCRIPTION:Tonight we’ll be a quintet with Bill Sharrow\, bass/vocals; Cliff Starkey\, keys/vocals; Joel Shimer\, guitar/vocals; Billy Wear\, drums and Craig on guitar/vocals. We’ll play from 6:30PM-8:30PM but the event actually starts at 6PM. This is a beautiful outside amphitheater right by the Delaware River!
URL:https://craigthatcher.com/event/craig-thatcher-five-live-at-the-falls-free-event-in-scott-park-easton-pa/
END:VEVENT
BEGIN:VEVENT
DTSTART;TZID=America/New_York:20250718T180000
DTEND;TZID=America/New_York:20250718T210000
DTSTAMP:20260425T102130
CREATED:20250709T180615Z
LAST-MODIFIED:20250711T131835Z
UID:224-1752861600-1752872400@craigthatcher.com
SUMMARY:Craig Solo Artisan Wine & Cheese Cellars
DESCRIPTION:This is a very cool little venue which shares the same parking lot as the Wooden Match. Food is also provided by the staff at the WM. For reservations (pretty much necessary) please call 610-813-2851.
URL:https://craigthatcher.com/event/craig-solo-artisan-wine-cheese-cellars/
END:VEVENT
END:VCALENDAR