BEGIN:VCALENDAR
VERSION:2.0
PRODID:-//Welcome to craigthatcher.com - ECPv6.15.20//NONSGML v1.0//EN
CALSCALE:GREGORIAN
METHOD:PUBLISH
X-WR-CALNAME:Welcome to craigthatcher.com
X-ORIGINAL-URL:https://craigthatcher.com
X-WR-CALDESC:Events for Welcome to craigthatcher.com
REFRESH-INTERVAL;VALUE=DURATION:PT1H
X-Robots-Tag:noindex
X-PUBLISHED-TTL:PT1H
BEGIN:VTIMEZONE
TZID:America/New_York
BEGIN:DAYLIGHT
TZOFFSETFROM:-0500
TZOFFSETTO:-0400
TZNAME:EDT
DTSTART:20240310T070000
END:DAYLIGHT
BEGIN:STANDARD
TZOFFSETFROM:-0400
TZOFFSETTO:-0500
TZNAME:EST
DTSTART:20241103T060000
END:STANDARD
BEGIN:DAYLIGHT
TZOFFSETFROM:-0500
TZOFFSETTO:-0400
TZNAME:EDT
DTSTART:20250309T070000
END:DAYLIGHT
BEGIN:STANDARD
TZOFFSETFROM:-0400
TZOFFSETTO:-0500
TZNAME:EST
DTSTART:20251102T060000
END:STANDARD
BEGIN:DAYLIGHT
TZOFFSETFROM:-0500
TZOFFSETTO:-0400
TZNAME:EDT
DTSTART:20260308T070000
END:DAYLIGHT
BEGIN:STANDARD
TZOFFSETFROM:-0400
TZOFFSETTO:-0500
TZNAME:EST
DTSTART:20261101T060000
END:STANDARD
END:VTIMEZONE
BEGIN:VEVENT
DTSTART;TZID=America/New_York:20250726T120000
DTEND;TZID=America/New_York:20250726T130000
DTSTAMP:20260425T085419
CREATED:20250709T172848Z
LAST-MODIFIED:20250709T175917Z
UID:211-1753531200-1753534800@craigthatcher.com
SUMMARY:Craig Thatcher & Cliff Starkey\, "Martin On Main" in Nazareth\, PA
DESCRIPTION:Cliff and I will be performing on the Main Stage starting promptly at 12 noon. The Main Stage is located at the corner of Main & Belvidere Streets.
URL:https://craigthatcher.com/event/craig-solo-at-artisan-wine-cheese-cellars/
END:VEVENT
BEGIN:VEVENT
DTSTART;TZID=America/New_York:20250724T183000
DTEND;TZID=America/New_York:20250724T203000
DTSTAMP:20260425T085419
CREATED:20250709T175340Z
LAST-MODIFIED:20250719T143910Z
UID:217-1753381800-1753389000@craigthatcher.com
SUMMARY:Craig Thatcher Five\, "Live At The Falls\," FREE EVENT in Scott Park\, Easton\, PA
DESCRIPTION:Tonight we’ll be a quintet with Bill Sharrow\, bass/vocals; Cliff Starkey\, keys/vocals; Joel Shimer\, guitar/vocals; Billy Wear\, drums and Craig on guitar/vocals. We’ll play from 6:30PM-8:30PM but the event actually starts at 6PM. This is a beautiful outside amphitheater right by the Delaware River!
URL:https://craigthatcher.com/event/craig-thatcher-five-live-at-the-falls-free-event-in-scott-park-easton-pa/
END:VEVENT
BEGIN:VEVENT
DTSTART;TZID=America/New_York:20250718T180000
DTEND;TZID=America/New_York:20250718T210000
DTSTAMP:20260425T085419
CREATED:20250709T180615Z
LAST-MODIFIED:20250711T131835Z
UID:224-1752861600-1752872400@craigthatcher.com
SUMMARY:Craig Solo Artisan Wine & Cheese Cellars
DESCRIPTION:This is a very cool little venue which shares the same parking lot as the Wooden Match. Food is also provided by the staff at the WM. For reservations (pretty much necessary) please call 610-813-2851.
URL:https://craigthatcher.com/event/craig-solo-artisan-wine-cheese-cellars/
END:VEVENT
END:VCALENDAR