BEGIN:VCALENDAR
VERSION:2.0
PRODID:-//Welcome to craigthatcher.com - ECPv6.15.20//NONSGML v1.0//EN
CALSCALE:GREGORIAN
METHOD:PUBLISH
X-WR-CALNAME:Welcome to craigthatcher.com
X-ORIGINAL-URL:https://craigthatcher.com
X-WR-CALDESC:Events for Welcome to craigthatcher.com
REFRESH-INTERVAL;VALUE=DURATION:PT1H
X-Robots-Tag:noindex
X-PUBLISHED-TTL:PT1H
BEGIN:VTIMEZONE
TZID:America/New_York
BEGIN:DAYLIGHT
TZOFFSETFROM:-0500
TZOFFSETTO:-0400
TZNAME:EDT
DTSTART:20240310T070000
END:DAYLIGHT
BEGIN:STANDARD
TZOFFSETFROM:-0400
TZOFFSETTO:-0500
TZNAME:EST
DTSTART:20241103T060000
END:STANDARD
BEGIN:DAYLIGHT
TZOFFSETFROM:-0500
TZOFFSETTO:-0400
TZNAME:EDT
DTSTART:20250309T070000
END:DAYLIGHT
BEGIN:STANDARD
TZOFFSETFROM:-0400
TZOFFSETTO:-0500
TZNAME:EST
DTSTART:20251102T060000
END:STANDARD
BEGIN:DAYLIGHT
TZOFFSETFROM:-0500
TZOFFSETTO:-0400
TZNAME:EDT
DTSTART:20260308T070000
END:DAYLIGHT
BEGIN:STANDARD
TZOFFSETFROM:-0400
TZOFFSETTO:-0500
TZNAME:EST
DTSTART:20261101T060000
END:STANDARD
END:VTIMEZONE
BEGIN:VEVENT
DTSTART;TZID=America/New_York:20251121T193000
DTEND;TZID=America/New_York:20251121T213000
DTSTAMP:20260424T214158
CREATED:20250713T210338Z
LAST-MODIFIED:20250823T200635Z
UID:372-1763753400-1763760600@craigthatcher.com
SUMMARY:CTQ  Miller Symphony Hall
DESCRIPTION:Don’t miss the Craig Thatcher Quartet\, a beloved local group known for their vibrant performances and exceptional talent! With a loyal following in the area\, the quartet blends smooth jazz and blues with energetic rhythms\, creating an unforgettable experience for all music lovers. Their concerts are always a hit and sell out fast\, so grab your tickets soon for a night of fantastic live music from one of the region’s most well-known acts! \n\n\n\nTonight’s show will feature Cliff Starkey\, keyboards/vocals; Billy Wear\, drums; Chico Huff\, bass and Craig on guitar/vocals. \n\n\n\n \n\n\n\nMiller Symphony Hall\, 23 N 6th Street\, Allentown\, PA 18101tel:610-432-671. Box office hours · Monday-Friday 10am – 2pm\, plus two hours prior to each performance.
URL:https://craigthatcher.com/event/craig-thatcher-quartet-miller-symphony-hall/
END:VEVENT
END:VCALENDAR